BEGIN:VCALENDAR
VERSION:2.0
PRODID:-//Engadin River Ranch - ECPv6.15.20//NONSGML v1.0//EN
CALSCALE:GREGORIAN
METHOD:PUBLISH
X-WR-CALNAME:Engadin River Ranch
X-ORIGINAL-URL:https://engadin-riverranch.ch
X-WR-CALDESC:Veranstaltungen für Engadin River Ranch
REFRESH-INTERVAL;VALUE=DURATION:PT1H
X-Robots-Tag:noindex
X-PUBLISHED-TTL:PT1H
BEGIN:VTIMEZONE
TZID:Europe/Zurich
BEGIN:DAYLIGHT
TZOFFSETFROM:+0100
TZOFFSETTO:+0200
TZNAME:CEST
DTSTART:20200329T010000
END:DAYLIGHT
BEGIN:STANDARD
TZOFFSETFROM:+0200
TZOFFSETTO:+0100
TZNAME:CET
DTSTART:20201025T010000
END:STANDARD
BEGIN:DAYLIGHT
TZOFFSETFROM:+0100
TZOFFSETTO:+0200
TZNAME:CEST
DTSTART:20210328T010000
END:DAYLIGHT
BEGIN:STANDARD
TZOFFSETFROM:+0200
TZOFFSETTO:+0100
TZNAME:CET
DTSTART:20211031T010000
END:STANDARD
BEGIN:DAYLIGHT
TZOFFSETFROM:+0100
TZOFFSETTO:+0200
TZNAME:CEST
DTSTART:20220327T010000
END:DAYLIGHT
BEGIN:STANDARD
TZOFFSETFROM:+0200
TZOFFSETTO:+0100
TZNAME:CET
DTSTART:20221030T010000
END:STANDARD
BEGIN:DAYLIGHT
TZOFFSETFROM:+0100
TZOFFSETTO:+0200
TZNAME:CEST
DTSTART:20230326T010000
END:DAYLIGHT
BEGIN:STANDARD
TZOFFSETFROM:+0200
TZOFFSETTO:+0100
TZNAME:CET
DTSTART:20231029T010000
END:STANDARD
BEGIN:DAYLIGHT
TZOFFSETFROM:+0100
TZOFFSETTO:+0200
TZNAME:CEST
DTSTART:20240331T010000
END:DAYLIGHT
BEGIN:STANDARD
TZOFFSETFROM:+0200
TZOFFSETTO:+0100
TZNAME:CET
DTSTART:20241027T010000
END:STANDARD
BEGIN:DAYLIGHT
TZOFFSETFROM:+0100
TZOFFSETTO:+0200
TZNAME:CEST
DTSTART:20250330T010000
END:DAYLIGHT
BEGIN:STANDARD
TZOFFSETFROM:+0200
TZOFFSETTO:+0100
TZNAME:CET
DTSTART:20251026T010000
END:STANDARD
BEGIN:DAYLIGHT
TZOFFSETFROM:+0100
TZOFFSETTO:+0200
TZNAME:CEST
DTSTART:20260329T010000
END:DAYLIGHT
BEGIN:STANDARD
TZOFFSETFROM:+0200
TZOFFSETTO:+0100
TZNAME:CET
DTSTART:20261025T010000
END:STANDARD
END:VTIMEZONE
BEGIN:VEVENT
DTSTART;TZID=Europe/Zurich:20250907T113000
DTEND;TZID=Europe/Zurich:20250909T170000
DTSTAMP:20260419T181334
CREATED:20241018T090817Z
LAST-MODIFIED:20250909T081855Z
UID:895-1757244600-1757437200@engadin-riverranch.ch
SUMMARY:Wellness\, Wanderreiten & Yoga über den Suvretta-Pass
DESCRIPTION:Ein Passritt plus Wellness im Oberengadin!\nBei diesem langen Wanderreiten & Yoga-Wochenende reiten wir ins Val Bever\, erklimmen mit den Pferden den 2’625m hohen Suvretta-Pass\, entspannen im Aussenwhirlpool mit Blick auf das Engadiner Seenplateau und kehren durch den Stazerwald zurück. Wenn du schon immer einmal länger im Sattel sitzen und mit Pferden Berge besteigen wolltest\, aber nicht auf längere Galoppstrecken und Wellness verzichten möchtest\, dann ist dies die ideale Aktivität für dich im Juli. Ein unvergessliches Erlebnis\, an das du noch lange mit Freude zurückdenken wirst! \nmehr Informationen\nVoraussetzungen\n\nsicheres Reiten in allen drei Gangarten\ngute Ausdauer für mehrere Stunden im Sattel\, inkl. langen Trab- und Galoppstrecken\nAlle Yoga-Level.\n\nKosten\n\nCHF 1’250.- pro Person im Doppelzimmer\nCHF 1’330.- pro Person im Einzelzimmer\n\nLimitierte Anzahl Plätze! \nAnmeldung\n  \nLieber ein anderes Datum?\nGerne können unsere Gäste ein individuelles Datum jederzeit anfragen\, für egal welche Tour und egal mit welcher Reiterfahrung! \nTour anfragen
URL:https://engadin-riverranch.ch/veranstaltung/wellness-wanderreiten-yoga-ueber-den-suvrettapass/
CATEGORIES:Mehrtagestour,Reiten & Yoga
ATTACH;FMTTYPE=image/jpeg:https://engadin-riverranch.ch/wp-content/uploads/19RYE14Top52.jpeg
ORGANIZER;CN="Reiten & Yoga":MAILTO:hello@reitenundyoga.ch
END:VEVENT
BEGIN:VEVENT
DTSTART;TZID=Europe/Zurich:20250903T113000
DTEND;TZID=Europe/Zurich:20250905T170000
DTSTAMP:20260419T181334
CREATED:20241018T090152Z
LAST-MODIFIED:20241018T090152Z
UID:891-1756899000-1757091600@engadin-riverranch.ch
SUMMARY:Wanderreiten & Yoga zum Morteratsch­gletscher
DESCRIPTION:Lass dich vom Morteratsch Gletscher verzaubern!\nDer Morteratschgletscher hat eine besondere Magie welche vom Pferderücken aus noch verstärkt wird. Zusammen mit täglichen Yogastunden\, der frischen Bergluft und den neuen Begegnungen ist dies das ideale lange Wochenendeprogramm und einmal so richtig abzuschalten… \nmehr Informationen\nVoraussetzungen\n\nsicheres Reiten in allen drei Gangarten\ngute Ausdauer für mehrere Stunden im Sattel\, inkl. langen Trab- und Galoppstrecken\nAlle Yoga-Level.\n\nKosten\nCHF 1’200.- pro Person im Doppelzimmer \nLimitierte Anzahl Plätze! \nAnmeldung
URL:https://engadin-riverranch.ch/veranstaltung/wanderreiten-morteratschgletscher-2/
CATEGORIES:Mehrtagestour,Reiten & Yoga
ATTACH;FMTTYPE=image/jpeg:https://engadin-riverranch.ch/wp-content/uploads/Morteratsch_Wanderreiten_Yoga.jpg
END:VEVENT
BEGIN:VEVENT
DTSTART;TZID=Europe/Zurich:20250702T113000
DTEND;TZID=Europe/Zurich:20250704T170000
DTSTAMP:20260419T181334
CREATED:20241018T090319Z
LAST-MODIFIED:20241018T090319Z
UID:893-1751455800-1751648400@engadin-riverranch.ch
SUMMARY:Wanderreiten & Yoga zum Morteratsch­gletscher
DESCRIPTION:Lass dich vom Morteratsch Gletscher verzaubern!\nDer Morteratschgletscher hat eine besondere Magie welche vom Pferderücken aus noch verstärkt wird. Zusammen mit täglichen Yogastunden\, der frischen Bergluft und den neuen Begegnungen ist dies das ideale lange Wochenendeprogramm und einmal so richtig abzuschalten… \nmehr Informationen\nVoraussetzungen\n\nsicheres Reiten in allen drei Gangarten\ngute Ausdauer für mehrere Stunden im Sattel\, inkl. langen Trab- und Galoppstrecken\nAlle Yoga-Level.\n\nKosten\nCHF 1’200.- pro Person im Doppelzimmer \nLimitierte Anzahl Plätze! \nAnmeldung
URL:https://engadin-riverranch.ch/veranstaltung/wanderreiten-morteratschgletscher/
CATEGORIES:Mehrtagestour,Reiten & Yoga
ATTACH;FMTTYPE=image/jpeg:https://engadin-riverranch.ch/wp-content/uploads/Morteratsch_Wanderreiten_Yoga.jpg
END:VEVENT
BEGIN:VEVENT
DTSTART;TZID=Europe/Zurich:20240912T103000
DTEND;TZID=Europe/Zurich:20240914T160000
DTSTAMP:20260419T181334
CREATED:20231113T230656Z
LAST-MODIFIED:20231113T230656Z
UID:702-1726137000-1726329600@engadin-riverranch.ch
SUMMARY:Wanderreiten & Yoga zum Morteratsch­gletschser
DESCRIPTION:Lass dich vom Morteratsch Gletscher verzaubern!\nDer Morteratschgletscher hat eine besondere Magie welche vom Pferderücken aus noch verstärkt wird. Zusammen mit täglichen Yogastunden\, der frischen Bergluft und den neuen Begegnungen ist dies das ideale lange Wochenendeprogramm und einmal so richtig abzuschalten… \nmehr Informationen\nVoraussetzungen\n\nsicheres Reiten in allen drei Gangarten\ngute Ausdauer für mehrere Stunden im Sattel\, inkl. langen Trab- und Galoppstrecken\nAlle Yoga-Level.\n\nKosten\nCHF 1’170.- pro Person im Doppelzimmer \nLimitierte Anzahl Plätze! \nAnmeldung
URL:https://engadin-riverranch.ch/veranstaltung/wanderreiten-gletschser-2/
CATEGORIES:Mehrtagestour,Reiten & Yoga
ATTACH;FMTTYPE=image/jpeg:https://engadin-riverranch.ch/wp-content/uploads/Morteratsch_Wanderreiten_Yoga.jpg
END:VEVENT
BEGIN:VEVENT
DTSTART;VALUE=DATE:20240908
DTEND;VALUE=DATE:20240911
DTSTAMP:20260419T181334
CREATED:20231113T231009Z
LAST-MODIFIED:20240729T163531Z
UID:705-1725753600-1726012799@engadin-riverranch.ch
SUMMARY:Wellness\, Wanderreiten & Yoga über den Suvretta-Pass
DESCRIPTION:Ein Passritt plus Wellness im Oberengadin!\nBei diesem langen Wanderreiten & Yoga-Wochenende reiten wir ins Val Bever\, erklimmen mit den Pferden den 2625m hohen Suvretta-Pass\, entspannen im Aussenwhirlpool mit Blick auf das Engadiner Seenplateau und kehren durch den Stazerwald zurück. Wenn du schon immer einmal länger im Sattel sitzen und mit Pferden Berge besteigen wolltest\, aber nicht auf längere Galoppstrecken und Wellness verzichten möchtest\, dann ist dies die ideale Aktivität für dich im Juli. Ein unvergessliches Erlebnis\, an das du noch lange mit Freude zurückdenken wirst! \nmehr Informationen\nVoraussetzungen\n\nsicheres Reiten in allen drei Gangarten\ngute Ausdauer für mehrere Stunden im Sattel\, inkl. langen Trab- und Galoppstrecken\nAlle Yoga-Level.\n\nKosten\nCHF 1’210.- pro Person im Doppelzimmer \nLimitierte Anzahl Plätze! \nAnmeldung\n  \nLieber ein anderes Datum?\nGerne können unsere Gäste ein individuelles Datum jederzeit anfragen\, für egal welche Tour und egal mit welcher Reiterfahrung! \nTour anfragen
URL:https://engadin-riverranch.ch/veranstaltung/wellness-wanderreiten-yoga-ueber-den-suvretta-pass-2/
CATEGORIES:Reiten & Yoga
ATTACH;FMTTYPE=image/jpeg:https://engadin-riverranch.ch/wp-content/uploads/19RYE14Top52.jpeg
ORGANIZER;CN="Reiten & Yoga":MAILTO:hello@reitenundyoga.ch
END:VEVENT
BEGIN:VEVENT
DTSTART;TZID=Europe/Zurich:20240623T103000
DTEND;TZID=Europe/Zurich:20240625T160000
DTSTAMP:20260419T181334
CREATED:20231113T230518Z
LAST-MODIFIED:20231113T230518Z
UID:700-1719138600-1719331200@engadin-riverranch.ch
SUMMARY:Wanderreiten & Yoga zum Morteratsch­gletschser
DESCRIPTION:Lass dich vom Morteratsch Gletscher verzaubern!\nDer Morteratschgletscher hat eine besondere Magie welche vom Pferderücken aus noch verstärkt wird. Zusammen mit täglichen Yogastunden\, der frischen Bergluft und den neuen Begegnungen ist dies das ideale lange Wochenendeprogramm und einmal so richtig abzuschalten… \nmehr Informationen\nVoraussetzungen\n\nsicheres Reiten in allen drei Gangarten\ngute Ausdauer für mehrere Stunden im Sattel\, inkl. langen Trab- und Galoppstrecken\nAlle Yoga-Level\n\nKosten\nCHF 1’170.- pro Person im Doppelzimmer \nLimitierte Anzahl Plätze! \nAnmeldung
URL:https://engadin-riverranch.ch/veranstaltung/wanderreiten-gletschser/
CATEGORIES:Mehrtagestour,Reiten & Yoga
ATTACH;FMTTYPE=image/jpeg:https://engadin-riverranch.ch/wp-content/uploads/Morteratsch_Wanderreiten_Yoga.jpg
END:VEVENT
BEGIN:VEVENT
DTSTART;TZID=Europe/Zurich:20231006T103000
DTEND;TZID=Europe/Zurich:20231008T160000
DTSTAMP:20260419T181334
CREATED:20230217T114334Z
LAST-MODIFIED:20230221T065154Z
UID:647-1696588200-1696780800@engadin-riverranch.ch
SUMMARY:Wanderreiten & Yoga zum Morteratsch­gletscher
DESCRIPTION:Lass dich vom Morteratsch Gletscher verzaubern!\nDer Morteratschgletscher hat eine besondere Magie welche vom Pferderücken aus noch verstärkt wird. Zusammen mit täglichen Yogastunden\, der frischen Bergluft und den neuen Begegnungen ist dies das ideale lange Wochenendeprogramm und einmal so richtig abzuschalten… \nmehr Informationen\nVoraussetzungen\n\nsicheres Reiten in allen drei Gangarten\ngute Ausdauer für mehrere Stunden im Sattel\, inkl. langen Trab- und Galoppstrecken\nAlle Yoga-Level.\n\nKosten\nCHF 1090.- pro Person im Doppelzimmer \nLimitierte Anzahl Plätze! \nAnmeldung
URL:https://engadin-riverranch.ch/veranstaltung/wanderreiten-yoga-nach-morteratsch/
CATEGORIES:Mehrtagestour,Reiten & Yoga
ATTACH;FMTTYPE=image/jpeg:https://engadin-riverranch.ch/wp-content/uploads/Morteratsch_Wanderreiten_Yoga.jpg
END:VEVENT
BEGIN:VEVENT
DTSTART;TZID=Europe/Zurich:20230929T103000
DTEND;TZID=Europe/Zurich:20231001T160000
DTSTAMP:20260419T181334
CREATED:20210130T120508Z
LAST-MODIFIED:20230217T121017Z
UID:196-1695983400-1696176000@engadin-riverranch.ch
SUMMARY:Wanderreiten & Yoga auf der Via Engiadina
DESCRIPTION:Geniesse den Ausblick über das herbstliche Oberengadin!\nGemeinsam reiten wir auf 2500m der Via Engiadina entlang\, von wo du eine herrliche Aussicht auf das Oberengadin hast. Wanderritte\, tägliche Yogastunden\, frische Bergluft und viele neue Bekanntschaften ergeben ein ideales Wochenendprogramm\, um einmal richtig abzuschalten. \nmehr Informationen\nVoraussetzungen\n\nsicheres Reiten in allen drei Gangarten\ngute Ausdauer für mehrere Stunden im Sattel\, inkl. langen Trab- und Galoppstrecken\nAlle Yoga-Level.\n\nKosten\nCHF 770.- pro Person im Doppelzimmer \nLimitierte Anzahl Plätze! \nAnmeldung\n  \nLieber ein anderes Datum?\nGerne können unsere Gäste ein individuelles Datum jederzeit anfragen\, für egal welche Tour und egal mit welcher Reiterfahrung! \nTour anfragen
URL:https://engadin-riverranch.ch/veranstaltung/wanderreiten-yoga-via-engiadina/
CATEGORIES:Reiten & Yoga
ATTACH;FMTTYPE=image/png:https://engadin-riverranch.ch/wp-content/uploads/Screenshot-2021-01-31-102012.png
ORGANIZER;CN="Reiten & Yoga":MAILTO:hello@reitenundyoga.ch
END:VEVENT
BEGIN:VEVENT
DTSTART;TZID=Europe/Zurich:20230910T103000
DTEND;TZID=Europe/Zurich:20230912T160000
DTSTAMP:20260419T181334
CREATED:20230217T114953Z
LAST-MODIFIED:20230221T065707Z
UID:651-1694341800-1694534400@engadin-riverranch.ch
SUMMARY:Wanderreiten & Yoga zum Morteratsch­gletschser
DESCRIPTION:Lass dich vom Morteratsch Gletscher verzaubern!\nDer Morteratschgletscher hat eine besondere Magie welche vom Pferderücken aus noch verstärkt wird. Zusammen mit täglichen Yogastunden\, der frischen Bergluft und den neuen Begegnungen ist dies das ideale lange Wochenendeprogramm und einmal so richtig abzuschalten… \nmehr Informationen\nVoraussetzungen\n\nsicheres Reiten in allen drei Gangarten\ngute Ausdauer für mehrere Stunden im Sattel\, inkl. langen Trab- und Galoppstrecken\nAlle Yoga-Level.\n\nKosten\nCHF 1090.- pro Person im Doppelzimmer \nLimitierte Anzahl Plätze! \nAnmeldung
URL:https://engadin-riverranch.ch/veranstaltung/wanderreiten-yoga-zum-morteratschgletscher/
CATEGORIES:Mehrtagestour,Reiten & Yoga
ATTACH;FMTTYPE=image/jpeg:https://engadin-riverranch.ch/wp-content/uploads/Morteratsch_Wanderreiten_Yoga.jpg
END:VEVENT
BEGIN:VEVENT
DTSTART;TZID=Europe/Zurich:20230527T103000
DTEND;TZID=Europe/Zurich:20230529T160000
DTSTAMP:20260419T181334
CREATED:20230208T100043Z
LAST-MODIFIED:20230217T120511Z
UID:639-1685183400-1685376000@engadin-riverranch.ch
SUMMARY:Wanderreiten\, Wellnessen & Yoga nach Zernez
DESCRIPTION:Pfingsten im Engadin!\nWir reiten von Madulain im Oberengadin nach Zernez an die Grenze zum Unterengadin. Lass den Alltag zu Hause und geniesse die abwechslungsreiche Landschaft und die unvergessliche Zeit im Sattel! Pferde\, frische Bergluft\, tägliche Yogastunden und zahlreiche neue Bekanntschaften ergeben das ideale Programm für ein langes Pfingst-Wochenende\, an dem du so richtig abschalten kannst. \nmehr Informationen\nVoraussetzungen\n\nsicheres Reiten in allen drei Gangarten\ngute Ausdauer für mehrere Stunden im Sattel\, inkl. langen Trab- und Galoppstrecken\nAlle Yoga-Level.\n\nKosten\nCHF 1090.- pro Person im Doppelzimmer\nCHF 1190.- pro Person im Einzelzimmer \nLimitierte Anzahl Plätze! \nAnmeldung
URL:https://engadin-riverranch.ch/veranstaltung/wanderreiten-yoga-nach-zernez-2/
CATEGORIES:Mehrtagestour,Reiten & Yoga
ATTACH;FMTTYPE=image/jpeg:https://engadin-riverranch.ch/wp-content/uploads/20RYE11Top31.jpeg
END:VEVENT
BEGIN:VEVENT
DTSTART;TZID=Europe/Zurich:20230407T103000
DTEND;TZID=Europe/Zurich:20230410T130000
DTSTAMP:20260419T181334
CREATED:20210130T113705Z
LAST-MODIFIED:20230217T120329Z
UID:176-1680863400-1681131600@engadin-riverranch.ch
SUMMARY:Wellness & Reiten an Ostern im Oberengadin
DESCRIPTION:Wellness & Reiten an Ostern im Oberengadin\nLass den Alltag zu Hause und gönn dir eine Auszeit. Dich erwartet ein langes erholsames Oster-Wochenende in atemberaubender Natur\, mit viel Zeit zum Relaxen\, leckerem Essen\, Wellness und natürlich täglichen Ausritten im Schnee und Zeit mit den Pferden – dieser Retreat vereint alles\, was dein Herz begehrt! \nBei diesem Reteat gibt es die gleich guten Vibes wie bei den Reiten & Yoga Retreats. Einfach ohne Yoga\, damit du ganz viel Zeit für dich\, zum entspannen und wellnessen hast. \nmehr Informationen\nVoraussetzungen\n\nsicheres Reiten in allen drei Gangarten\ngute Ausdauer für mehrere Stunden im Sattel\, inkl. langen Trab- und Galoppstrecken\n\nKosten\n\nCHF 1’290.- pro Person im Doppelzimmer\nCHF 1’490.- pro Person im Einzelzimmer\n\nLimitierte Anzahl Plätze! \nAnmeldung
URL:https://engadin-riverranch.ch/veranstaltung/wellness-reiten-an-ostern-im-oberengadin/
CATEGORIES:Mehrtagestour
ATTACH;FMTTYPE=image/jpeg:https://engadin-riverranch.ch/wp-content/uploads/pferde-baden.jpg
ORGANIZER;CN="Reiten & Yoga":MAILTO:hello@reitenundyoga.ch
END:VEVENT
BEGIN:VEVENT
DTSTART;VALUE=DATE:20210916
DTEND;VALUE=DATE:20210920
DTSTAMP:20260419T181334
CREATED:20210201T164011Z
LAST-MODIFIED:20210507T053841Z
UID:227-1631833200-1632092399@engadin-riverranch.ch
SUMMARY:3-Tages-Tour - ausgebucht
DESCRIPTION:ausgebucht \nVoraussetzungen\n\ngute Reiterfahrung erforderlich\n\nKosten\nCHF 890.- pro Person. \nLimitierte Anzahl Plätze! \nDownload Info-PDF\n  \nLieber ein anderes Datum?\nGerne können unsere Gäste ein individuelles Datum jederzeit anfragen\, für egal welche Tour und egal mit welcher Reiterfahrung! \nTour anfragen
URL:https://engadin-riverranch.ch/veranstaltung/3-tages-tour-2/
CATEGORIES:Mehrtagestour
ATTACH;FMTTYPE=image/jpeg:https://engadin-riverranch.ch/wp-content/uploads/reiten-im-unterengadin.jpg
ORGANIZER;CN="Engadin Riverranch":MAILTO:info@engadin-riverranch.ch
END:VEVENT
BEGIN:VEVENT
DTSTART;VALUE=DATE:20210902
DTEND;VALUE=DATE:20210906
DTSTAMP:20260419T181334
CREATED:20210130T120429Z
LAST-MODIFIED:20210628T145253Z
UID:194-1630623600-1630882799@engadin-riverranch.ch
SUMMARY:Ausgebucht - Wellness\, Wanderreiten & Yoga über den Suvretta-Pass
DESCRIPTION:Ein Passritt plus Wellness im Oberengadin!\nBei diesem langen Wanderreiten & Yoga-Wochenende reiten wir ins Val Bever\, erklimmen mit den Pferden den 2625m hohen Suvretta-Pass\, entspannen im Aussenwhirlpool mit Blick auf das Engadiner Seenplateau und kehren durch den Stazerwald zurück. Wenn du schon immer einmal länger im Sattel sitzen und mit Pferden Berge besteigen wolltest\, aber nicht auf längere Galoppstrecken und Wellness verzichten möchtest\, dann ist dies die ideale Aktivität für dich im Juli. Ein unvergessliches Erlebnis\, an das du noch lange mit Freude zurückdenken wirst! \nmehr Informationen\nVoraussetzungen\n\nsicheres Reiten in allen drei Gangarten\ngute Ausdauer für mehrere Stunden im Sattel\, inkl. langen Trab- und Galoppstrecken\nAlle Yoga-Level.\n\nKosten\nCHF 770.- pro Person im Doppelzimmer \nLimitierte Anzahl Plätze! \nAnmeldung\n  \nLieber ein anderes Datum?\nGerne können unsere Gäste ein individuelles Datum jederzeit anfragen\, für egal welche Tour und egal mit welcher Reiterfahrung! \nTour anfragen
URL:https://engadin-riverranch.ch/veranstaltung/wellness-wanderreiten-yoga-ueber-den-suvretta-pass/
CATEGORIES:Reiten & Yoga
ATTACH;FMTTYPE=image/jpeg:https://engadin-riverranch.ch/wp-content/uploads/19RYE14Top52.jpeg
ORGANIZER;CN="Reiten & Yoga":MAILTO:hello@reitenundyoga.ch
END:VEVENT
BEGIN:VEVENT
DTSTART;VALUE=DATE:20210825
DTEND;VALUE=DATE:20210830
DTSTAMP:20260419T181334
CREATED:20210130T120332Z
LAST-MODIFIED:20210628T145114Z
UID:187-1629932400-1630277999@engadin-riverranch.ch
SUMMARY:Ausgebucht - Wanderreiten & Yoga über den Scalettapass
DESCRIPTION:Vier Tage Natur\, Berge\, Ruhe und Abenteuer\nWir reiten durch das verwunschene Susaunatal\, erklimmen mit den Pferden den 2606m hohen Scalettapass\, verlassen das Engadin und übernachten auf dem Dürrboden im Dischmatal bei Davos. Du lernst malerische engadiner Dörfer kennen und die wild-schöne Natur in den Bergen. Wenn du schon immer einmal länger im Sattel sitzen und mit Pferden Berge besteigen wolltest\, dann ist das die ideale Aktivität für dich im August. Ein unvergessliches Erlebnis\, an das du noch lange mit Freude zurückdenken wirst!  \nmehr Informationen\nVoraussetzungen\n\nsicheres Reiten in allen drei Gangarten\ngute Ausdauer für mehrere Stunden im Sattel\, inkl. langen Trab- und Galoppstrecken\nAlle Yoga-Level.\n\nKosten\nCHF 1’125.- pro Person \nLimitierte Anzahl Plätze! \nAnmeldung\n  \nLieber ein anderes Datum?\nGerne können unsere Gäste ein individuelles Datum jederzeit anfragen\, für egal welche Tour und egal mit welcher Reiterfahrung! \nTour anfragen
URL:https://engadin-riverranch.ch/veranstaltung/wanderreiten-yoga-scalettapass/
CATEGORIES:Reiten & Yoga
ATTACH;FMTTYPE=image/jpeg:https://engadin-riverranch.ch/wp-content/uploads/20RYE18TeilnehmerInnen7.jpg
ORGANIZER;CN="Reiten & Yoga":MAILTO:hello@reitenundyoga.ch
END:VEVENT
BEGIN:VEVENT
DTSTART;VALUE=DATE:20210818
DTEND;VALUE=DATE:20210825
DTSTAMP:20260419T181334
CREATED:20210130T123113Z
LAST-MODIFIED:20210628T144903Z
UID:217-1629327600-1629845999@engadin-riverranch.ch
SUMMARY:Ausgebucht - 5-Tages-Tour im Oberengadin
DESCRIPTION:Voraussetzungen \n\nsicheres Reiten in allen drei Gangarten\ngute Reiterfahrung erforderlich\n\nKosten\nCHF 1’690.- pro Person. \nLimitierte Anzahl Plätze! \nDownload Info-PDF\n  \nLieber ein anderes Datum?\nGerne können unsere Gäste ein individuelles Datum jederzeit anfragen\, für egal welche Tour und egal mit welcher Reiterfahrung! \nTour anfragen
URL:https://engadin-riverranch.ch/veranstaltung/5-tages-tour-im-oberengadin-3/
CATEGORIES:Fünftagestour,Mehrtagestour
ATTACH;FMTTYPE=image/jpeg:https://engadin-riverranch.ch/wp-content/uploads/reiten-im-hochgebirge.jpg
ORGANIZER;CN="Engadin Riverranch":MAILTO:info@engadin-riverranch.ch
END:VEVENT
BEGIN:VEVENT
DTSTART;VALUE=DATE:20210814
DTEND;VALUE=DATE:20210821
DTSTAMP:20260419T181334
CREATED:20210130T123006Z
LAST-MODIFIED:20210507T054059Z
UID:215-1628982000-1629500399@engadin-riverranch.ch
SUMMARY:5-Tages-Tour im Oberengadin - ausgebucht
DESCRIPTION:Ausgebucht\nVoraussetzungen \n\nsicheres Reiten in allen drei Gangarten\ngute Reiterfahrung erforderlich\n\nKosten\nCHF 1’690.- pro Person. \nLimitierte Anzahl Plätze! \nDownload Info-PDF\n  \nLieber ein anderes Datum?\nGerne können unsere Gäste ein individuelles Datum jederzeit anfragen\, für egal welche Tour und egal mit welcher Reiterfahrung! \nTour anfragen
URL:https://engadin-riverranch.ch/veranstaltung/5-tages-tour-im-oberengadin-ausgebucht/
CATEGORIES:Fünftagestour,Mehrtagestour
ATTACH;FMTTYPE=image/jpeg:https://engadin-riverranch.ch/wp-content/uploads/galoppieren.jpg
ORGANIZER;CN="Engadin Riverranch":MAILTO:info@engadin-riverranch.ch
END:VEVENT
BEGIN:VEVENT
DTSTART;VALUE=DATE:20210812
DTEND;VALUE=DATE:20210815
DTSTAMP:20260419T181334
CREATED:20210131T102430Z
LAST-MODIFIED:20210604T143114Z
UID:223-1628809200-1628981999@engadin-riverranch.ch
SUMMARY:2-Tages-Tour - ausgebucht
DESCRIPTION:Voraussetzungen\n\ngute Erfahrung erforderlich\n\nKosten\nCHF 520.- pro Person. \nLimitierte Anzahl Plätze! \nDownload Info-PDF\n  \nLieber ein anderes Datum?\nGerne können unsere Gäste ein individuelles Datum jederzeit anfragen\, für egal welche Tour und egal mit welcher Reiterfahrung! \nTour anfragen
URL:https://engadin-riverranch.ch/veranstaltung/2-tages-tour/
CATEGORIES:Mehrtagestour
ATTACH;FMTTYPE=image/jpeg:https://engadin-riverranch.ch/wp-content/uploads/reiten-durch-die-taeler.jpg
ORGANIZER;CN="Engadin Riverranch":MAILTO:info@engadin-riverranch.ch
END:VEVENT
BEGIN:VEVENT
DTSTART;VALUE=DATE:20210715
DTEND;VALUE=DATE:20210719
DTSTAMP:20260419T181334
CREATED:20210130T115806Z
LAST-MODIFIED:20210216T094756Z
UID:188-1626390000-1626649199@engadin-riverranch.ch
SUMMARY:Wellness\, Wanderreiten & Yoga über den Suvretta-Pass
DESCRIPTION:Ein Passritt plus Wellness im Oberengadin!\nBei diesem langen Wanderreiten & Yoga-Wochenende reiten wir ins Val Bever\, erklimmen mit den Pferden den 2625m hohen Suvretta-Pass\, entspannen im Aussenwhirlpool mit Blick auf das Engadiner Seenplateau und kehren durch den Stazerwald zurück. Wenn du schon immer einmal länger im Sattel sitzen und mit Pferden Berge besteigen wolltest\, aber nicht auf längere Galoppstrecken und Wellness verzichten möchtest\, dann ist dies die ideale Aktivität für dich im Juli. Ein unvergessliches Erlebnis\, an das du noch lange mit Freude zurückdenken wirst! \nmehr Informationen\nVoraussetzungen\n\nsicheres Reiten in allen drei Gangarten\ngute Ausdauer für mehrere Stunden im Sattel\, inkl. langen Trab- und Galoppstrecken\nAlle Yoga-Level.\n\nKosten\nCHF 770.- pro Person im Doppelzimmer \nLimitierte Anzahl Plätze! \nAnmeldung\n  \nLieber ein anderes Datum?\nGerne können unsere Gäste ein individuelles Datum jederzeit anfragen\, für egal welche Tour und egal mit welcher Reiterfahrung! \nTour anfragen
URL:https://engadin-riverranch.ch/veranstaltung/wellness-wanderreiten-yoga-suvretta-pass/
CATEGORIES:Reiten & Yoga
ATTACH;FMTTYPE=image/jpeg:https://engadin-riverranch.ch/wp-content/uploads/reiten-ist-freiheit.jpg
ORGANIZER;CN="Reiten & Yoga":MAILTO:hello@reitenundyoga.ch
END:VEVENT
BEGIN:VEVENT
DTSTART;TZID=Europe/Zurich:20210709T070000
DTEND;TZID=Europe/Zurich:20210711T160000
DTSTAMP:20260419T181334
CREATED:20200424T071242Z
LAST-MODIFIED:20210504T102235Z
UID:101-1625814000-1626019200@engadin-riverranch.ch
SUMMARY:3-Tages-Tour - ausgebucht
DESCRIPTION:Voraussetzungen\n\ngute Reiterfahrung erforderlich\n\nKosten\nCHF 890.- pro Person. \nNoch drei freie Plätze! \nDownload Info-PDF\n  \nLieber ein anderes Datum?\nGerne können unsere Gäste ein individuelles Datum jederzeit anfragen\, für egal welche Tour und egal mit welcher Reiterfahrung! \nTour anfragen
URL:https://engadin-riverranch.ch/veranstaltung/3-tages-tour/
LOCATION:Engadin Riverranch\, Via Suot 35c\, Madulain\, Graubünden\, 7523\, Schweiz
CATEGORIES:Mehrtagestour
ATTACH;FMTTYPE=image/jpeg:https://engadin-riverranch.ch/wp-content/uploads/ausreiten.jpg
ORGANIZER;CN="Engadin Riverranch":MAILTO:info@engadin-riverranch.ch
END:VEVENT
BEGIN:VEVENT
DTSTART;VALUE=DATE:20210624
DTEND;VALUE=DATE:20210701
DTSTAMP:20260419T181334
CREATED:20210130T122818Z
LAST-MODIFIED:20210507T054404Z
UID:211-1624575600-1625093999@engadin-riverranch.ch
SUMMARY:5-Tages-Tour im Oberengadin - ausgebucht
DESCRIPTION:Ausgebucht \nVoraussetzungen\n\nsicheres Reiten in allen drei Gangarten\ngute Reiterfahrung erforderlich\n\nKosten\nCHF 1’690.- pro Person. \nLimitierte Anzahl Plätze! \nDownload Info-PDF\n  \nLieber ein anderes Datum?\nGerne können unsere Gäste ein individuelles Datum jederzeit anfragen\, für egal welche Tour und egal mit welcher Reiterfahrung! \nTour anfragen
URL:https://engadin-riverranch.ch/veranstaltung/5-tages-tour-im-oberengadin-2/
CATEGORIES:Fünftagestour,Mehrtagestour
ATTACH;FMTTYPE=image/jpeg:https://engadin-riverranch.ch/wp-content/uploads/reiten-auf-wanderwegen.jpg
ORGANIZER;CN="Engadin Riverranch":MAILTO:info@engadin-riverranch.ch
END:VEVENT
BEGIN:VEVENT
DTSTART;VALUE=DATE:20210603
DTEND;VALUE=DATE:20210610
DTSTAMP:20260419T181334
CREATED:20210130T122056Z
LAST-MODIFIED:20210507T054454Z
UID:203-1622761200-1623279599@engadin-riverranch.ch
SUMMARY:5-Tages-Tour im Unterengadin - ausgebucht
DESCRIPTION:Ausgebucht \nVoraussetzungen\n\nsicheres Reiten in allen drei Gangarten\ngute Reiterfahrung erforderlich\n\nKosten\nCHF 1’690.- pro Person. \nLimitierte Anzahl Plätze! \nDownload Info-PDF\n  \nLieber ein anderes Datum?\nGerne können unsere Gäste ein individuelles Datum jederzeit anfragen\, für egal welche Tour und egal mit welcher Reiterfahrung! \nTour anfragen
URL:https://engadin-riverranch.ch/veranstaltung/5-tages-tour-im-unterengadin/
CATEGORIES:Fünftagestour,Mehrtagestour
ATTACH;FMTTYPE=image/jpeg:https://engadin-riverranch.ch/wp-content/uploads/tagesausflug.jpg
ORGANIZER;CN="Engadin Riverranch":MAILTO:info@engadin-riverranch.ch
END:VEVENT
BEGIN:VEVENT
DTSTART;VALUE=DATE:20210521
DTEND;VALUE=DATE:20210525
DTSTAMP:20260419T181334
CREATED:20210115T073313Z
LAST-MODIFIED:20210130T123517Z
UID:166-1621638000-1621897199@engadin-riverranch.ch
SUMMARY:Wanderreiten & Yoga nach Zernez
DESCRIPTION:Pfingsten im Engadin!\nWir reiten von Madulain im Oberengadin nach Zernez an die Grenze zum Unterengadin. Lass den Alltag zu Hause und geniesse die abwechslungsreiche Landschaft und die unvergessliche Zeit im Sattel! Pferde\, frische Bergluft\, tägliche Yogastunden und zahlreiche neue Bekanntschaften ergeben das ideale Programm für ein langes Pfingst-Wochenende\, an dem du so richtig abschalten kannst. \nmehr Informationen\nVoraussetzungen\n\nsicheres Reiten in allen drei Gangarten\ngute Ausdauer für mehrere Stunden im Sattel\, inkl. langen Trab- und Galoppstrecken\nAlle Yoga-Level.\n\nKosten\nCHF 770.- pro Person im Doppelzimmer \nLimitierte Anzahl Plätze! \nAnmeldung\n  \nLieber ein anderes Datum?\nGerne können unsere Gäste ein individuelles Datum jederzeit anfragen\, für egal welche Tour und egal mit welcher Reiterfahrung! \nTour anfragen
URL:https://engadin-riverranch.ch/veranstaltung/wanderreiten-yoga-nach-zernez/
CATEGORIES:Reiten & Yoga
ATTACH;FMTTYPE=image/jpeg:https://engadin-riverranch.ch/wp-content/uploads/20RYE11Top31.jpeg
ORGANIZER;CN="Reiten & Yoga":MAILTO:hello@reitenundyoga.ch
END:VEVENT
END:VCALENDAR